BEGIN:VCALENDAR
VERSION:2.0
PRODID:-//ChamberMaster//Event Calendar 2.0//EN
METHOD:PUBLISH
X-PUBLISHED-TTL:P3D
REFRESH-INTERVAL:P3D
CALSCALE:GREGORIAN
BEGIN:VEVENT
DTSTART;VALUE=DATE:20100921
DTEND;VALUE=DATE:20100922
TRANSP:TRANSPARENT
X-MICROSOFT-CDO-ALLDAYEVENT:TRUE
SUMMARY:Beaufort Regional Chamber - Business to Business Expo
DESCRIPTION:
X-ALT-DESC;FMTTYPE=text/html:
LOCATION:
UID:e.1212.3836
SEQUENCE:3
DTSTAMP:20260424T073040Z
URL:http://business.beaufortchamber.org/events/details/beaufort-regional-chamber-business-to-business-expo-09-21-2010-3836
END:VEVENT

END:VCALENDAR
