BEGIN:VCALENDAR
VERSION:2.0
PRODID:-//ChamberMaster//Event Calendar 2.0//EN
METHOD:PUBLISH
X-PUBLISHED-TTL:P3D
REFRESH-INTERVAL:P3D
CALSCALE:GREGORIAN
BEGIN:VEVENT
DTSTART;VALUE=DATE:20110121
DTEND;VALUE=DATE:20110122
TRANSP:TRANSPARENT
X-MICROSOFT-CDO-ALLDAYEVENT:TRUE
SUMMARY:Beaufort Regional Chamber - Canceled / Coffee With Colleagues
DESCRIPTION:Canceled .... did not hold per Blakely 1.14.11(moved to Common Ground)
X-ALT-DESC;FMTTYPE=text/html:Canceled .... did not hold per Blakely 1.14.11(moved to Common Ground)
LOCATION:
UID:e.1212.3912
SEQUENCE:3
DTSTAMP:20260423T233934Z
URL:http://business.beaufortchamber.org/events/details/beaufort-regional-chamber-canceled-coffee-with-colleagues-01-21-2011-3912
END:VEVENT

END:VCALENDAR
