BEGIN:VCALENDAR
VERSION:2.0
PRODID:-//ChamberMaster//Event Calendar 2.0//EN
METHOD:PUBLISH
X-PUBLISHED-TTL:P3D
REFRESH-INTERVAL:P3D
CALSCALE:GREGORIAN
BEGIN:VEVENT
DTSTART;VALUE=DATE:20091020
DTEND;VALUE=DATE:20091021
TRANSP:TRANSPARENT
X-MICROSOFT-CDO-ALLDAYEVENT:TRUE
SUMMARY:Beaufort Regional Chamber - City Comp Plan
DESCRIPTION:Speaker: David Lott\, Chair\, Comprehensive Plan Advisory Committee\nPlan to attend this presentation hosted by the Beaufort Chamber and the Beaufort County Black Chamber of Commerce
X-ALT-DESC;FMTTYPE=text/html:Speaker: David Lott\, Chair\, Comprehensive Plan Advisory Committee\nPlan to attend this presentation hosted by the Beaufort Chamber and the Beaufort County Black Chamber of Commerce
LOCATION:
UID:e.1212.3637
SEQUENCE:3
DTSTAMP:20260424T220617Z
URL:http://business.beaufortchamber.org/events/details/beaufort-regional-chamber-city-comp-plan-10-20-2009-3637
END:VEVENT

END:VCALENDAR
