BEGIN:VCALENDAR
VERSION:2.0
PRODID:-//ChamberMaster//Event Calendar 2.0//EN
METHOD:PUBLISH
X-PUBLISHED-TTL:P3D
REFRESH-INTERVAL:P3D
CALSCALE:GREGORIAN
BEGIN:VEVENT
DTSTART;VALUE=DATE:20110121
DTEND;VALUE=DATE:20110122
TRANSP:TRANSPARENT
X-MICROSOFT-CDO-ALLDAYEVENT:TRUE
SUMMARY:Beaufort Regional Chamber - Coffee w/Colleagues
DESCRIPTION:Common Ground replaced original location which was Magnolia Court per Blakely 1/14/11
X-ALT-DESC;FMTTYPE=text/html:Common Ground replaced original location which was Magnolia Court per Blakely 1/14/11
LOCATION:
UID:e.1212.3917
SEQUENCE:3
DTSTAMP:20260423T233959Z
URL:http://business.beaufortchamber.org/events/details/beaufort-regional-chamber-coffee-w-colleagues-01-21-2011-3917
END:VEVENT

END:VCALENDAR
