BEGIN:VCALENDAR
VERSION:2.0
PRODID:-//ChamberMaster//Event Calendar 2.0//EN
METHOD:PUBLISH
X-PUBLISHED-TTL:P3D
REFRESH-INTERVAL:P3D
CALSCALE:GREGORIAN
BEGIN:VEVENT
DTSTART;VALUE=DATE:20100716
DTEND;VALUE=DATE:20100717
TRANSP:TRANSPARENT
X-MICROSOFT-CDO-ALLDAYEVENT:TRUE
SUMMARY:Beaufort Regional Chamber - Coffee With Colleagues
DESCRIPTION:
X-ALT-DESC;FMTTYPE=text/html:
LOCATION:
UID:e.1212.3837
SEQUENCE:3
DTSTAMP:20260424T085728Z
URL:http://business.beaufortchamber.org/events/details/beaufort-regional-chamber-coffee-with-colleagues-07-16-2010-3837
END:VEVENT

END:VCALENDAR
