BEGIN:VCALENDAR
VERSION:2.0
PRODID:-//ChamberMaster//Event Calendar 2.0//EN
METHOD:PUBLISH
X-PUBLISHED-TTL:P3D
REFRESH-INTERVAL:P3D
CALSCALE:GREGORIAN
BEGIN:VEVENT
DTSTART;VALUE=DATE:20100219
DTEND;VALUE=DATE:20100220
TRANSP:TRANSPARENT
X-MICROSOFT-CDO-ALLDAYEVENT:TRUE
SUMMARY:Beaufort Regional Chamber Coffee with Colleaques
DESCRIPTION:Join us for a morning informal networking event for our members.  Strictly a time for networking\, members are able to make connections over coffee.  There is no agenda\, just cards to be passed around for business opportunities.\nCoffee and food products are available to purchase for your enjoyment \nCost: Free for Chamber members
X-ALT-DESC;FMTTYPE=text/html:Join us for a morning informal networking event for our members.  Strictly a time for networking\, members are able to make connections over coffee.  There is no agenda\, just cards to be passed around for business opportunities.\nCoffee and food products are available to purchase for your enjoyment \nCost: Free for Chamber members
LOCATION:
UID:e.1212.3756
SEQUENCE:3
DTSTAMP:20260424T173038Z
URL:http://business.beaufortchamber.org/events/details/beaufort-regional-chamber-coffee-with-colleaques-02-19-2010-3756
END:VEVENT

END:VCALENDAR
