BEGIN:VCALENDAR
VERSION:2.0
PRODID:-//ChamberMaster//Event Calendar 2.0//EN
METHOD:PUBLISH
X-PUBLISHED-TTL:P3D
REFRESH-INTERVAL:P3D
CALSCALE:GREGORIAN
BEGIN:VEVENT
DTSTART;VALUE=DATE:20081211
DTEND;VALUE=DATE:20081212
TRANSP:TRANSPARENT
X-MICROSOFT-CDO-ALLDAYEVENT:TRUE
SUMMARY:Beaufort Regional Chamber December Board Meeting
DESCRIPTION:Located in the Community Room.
X-ALT-DESC;FMTTYPE=text/html:Located in the Community Room.
LOCATION:
UID:e.1212.1891
SEQUENCE:3
DTSTAMP:20260425T141755Z
URL:http://business.beaufortchamber.org/events/details/beaufort-regional-chamber-december-board-meeting-12-11-2008-1891
END:VEVENT

END:VCALENDAR
