BEGIN:VCALENDAR
VERSION:2.0
PRODID:-//ChamberMaster//Event Calendar 2.0//EN
METHOD:PUBLISH
X-PUBLISHED-TTL:P3D
REFRESH-INTERVAL:P3D
CALSCALE:GREGORIAN
BEGIN:VEVENT
DTSTART;VALUE=DATE:20090220
DTEND;VALUE=DATE:20090221
TRANSP:TRANSPARENT
X-MICROSOFT-CDO-ALLDAYEVENT:TRUE
SUMMARY:Beaufort Regional Chamber Feb - Coffee with Colleagues
DESCRIPTION:Start your morning off right by networking with fellow Chamber members. Coffee and food products are available to purchase for your enjoyment  while having great conversations.    Free to Chamber members.
X-ALT-DESC;FMTTYPE=text/html:Start your morning off right by networking with fellow Chamber members. Coffee and food products are available to purchase for your enjoyment  while having great conversations.    Free to Chamber members.
LOCATION:
UID:e.1212.2871
SEQUENCE:3
DTSTAMP:20260425T112609Z
URL:http://business.beaufortchamber.org/events/details/beaufort-regional-chamber-feb-coffee-with-colleagues-02-20-2009-2871
END:VEVENT

END:VCALENDAR
