BEGIN:VCALENDAR
VERSION:2.0
PRODID:-//ChamberMaster//Event Calendar 2.0//EN
METHOD:PUBLISH
X-PUBLISHED-TTL:P3D
REFRESH-INTERVAL:P3D
CALSCALE:GREGORIAN
BEGIN:VEVENT
DTSTART;VALUE=DATE:20091216
DTEND;VALUE=DATE:20091217
TRANSP:TRANSPARENT
X-MICROSOFT-CDO-ALLDAYEVENT:TRUE
SUMMARY:Beaufort Regional Chamber Film Commission
DESCRIPTION:The purpose of the commission is to promote the film-friendly Beaufort region and to serve as the liaison with interested producers from the film\, television or photography industry.  The commission works cooperatively with the South Carolina Film Commission.
X-ALT-DESC;FMTTYPE=text/html:The purpose of the commission is to promote the film-friendly Beaufort region and to serve as the liaison with interested producers from the film\, television or photography industry.  The commission works cooperatively with the South Carolina Film Commission.
LOCATION:
UID:e.1212.2962
SEQUENCE:3
DTSTAMP:20260424T193814Z
URL:http://business.beaufortchamber.org/events/details/beaufort-regional-chamber-film-commission-12-16-2009-2962
END:VEVENT

END:VCALENDAR
