BEGIN:VCALENDAR
VERSION:2.0
PRODID:-//ChamberMaster//Event Calendar 2.0//EN
METHOD:PUBLISH
X-PUBLISHED-TTL:P3D
REFRESH-INTERVAL:P3D
CALSCALE:GREGORIAN
BEGIN:VEVENT
DTSTART;VALUE=DATE:20090120
DTEND;VALUE=DATE:20090121
TRANSP:TRANSPARENT
X-MICROSOFT-CDO-ALLDAYEVENT:TRUE
SUMMARY:Beaufort Regional Chamber Governmental Affairs Committee
DESCRIPTION:This committee is focused on providing learning opportunities about business issues\, candidates and the political process\, as well as reviewing community-based issues such as growth and workforce housing.
X-ALT-DESC;FMTTYPE=text/html:This committee is focused on providing learning opportunities about business issues\, candidates and the political process\, as well as reviewing community-based issues such as growth and workforce housing.
LOCATION:
UID:e.1212.2911
SEQUENCE:3
DTSTAMP:20260425T141618Z
URL:http://business.beaufortchamber.org/events/details/beaufort-regional-chamber-governmental-affairs-committee-01-20-2009-2911
END:VEVENT

END:VCALENDAR
