BEGIN:VCALENDAR
VERSION:2.0
PRODID:-//ChamberMaster//Event Calendar 2.0//EN
METHOD:PUBLISH
X-PUBLISHED-TTL:P3D
REFRESH-INTERVAL:P3D
CALSCALE:GREGORIAN
BEGIN:VEVENT
DTSTART;VALUE=DATE:20100930
DTEND;VALUE=DATE:20101001
TRANSP:TRANSPARENT
X-MICROSOFT-CDO-ALLDAYEVENT:TRUE
SUMMARY:Beaufort Regional Chamber Grand Opening - Bangs Salon
DESCRIPTION:
X-ALT-DESC;FMTTYPE=text/html:
LOCATION:
UID:e.1212.3858
SEQUENCE:3
DTSTAMP:20260424T054037Z
URL:http://business.beaufortchamber.org/events/details/beaufort-regional-chamber-grand-opening-bangs-salon-09-30-2010-3858
END:VEVENT

END:VCALENDAR
