BEGIN:VCALENDAR
VERSION:2.0
PRODID:-//ChamberMaster//Event Calendar 2.0//EN
METHOD:PUBLISH
X-PUBLISHED-TTL:P3D
REFRESH-INTERVAL:P3D
CALSCALE:GREGORIAN
BEGIN:VEVENT
DTSTART;VALUE=DATE:20100825
DTEND;VALUE=DATE:20100826
TRANSP:TRANSPARENT
X-MICROSOFT-CDO-ALLDAYEVENT:TRUE
SUMMARY:Beaufort Regional Chamber Grand Opening - De Ja Vu
DESCRIPTION:
X-ALT-DESC;FMTTYPE=text/html:
LOCATION:
UID:e.1212.3839
SEQUENCE:3
DTSTAMP:20260424T090853Z
URL:http://business.beaufortchamber.org/events/details/beaufort-regional-chamber-grand-opening-de-ja-vu-08-25-2010-3839
END:VEVENT

END:VCALENDAR
