BEGIN:VCALENDAR
VERSION:2.0
PRODID:-//ChamberMaster//Event Calendar 2.0//EN
METHOD:PUBLISH
X-PUBLISHED-TTL:P3D
REFRESH-INTERVAL:P3D
CALSCALE:GREGORIAN
BEGIN:VEVENT
DTSTART;VALUE=DATE:20101130
DTEND;VALUE=DATE:20101201
TRANSP:TRANSPARENT
X-MICROSOFT-CDO-ALLDAYEVENT:TRUE
SUMMARY:Beaufort Regional Chamber - Grand Opening Hospice of South Carolina
DESCRIPTION:
X-ALT-DESC;FMTTYPE=text/html:
LOCATION:
UID:e.1212.3874
SEQUENCE:3
DTSTAMP:20260424T024446Z
URL:http://business.beaufortchamber.org/events/details/beaufort-regional-chamber-grand-opening-hospice-of-south-carolina-11-30-2010-3874
END:VEVENT

END:VCALENDAR
