BEGIN:VCALENDAR
VERSION:2.0
PRODID:-//ChamberMaster//Event Calendar 2.0//EN
METHOD:PUBLISH
X-PUBLISHED-TTL:P3D
REFRESH-INTERVAL:P3D
CALSCALE:GREGORIAN
BEGIN:VEVENT
DTSTART;VALUE=DATE:20100916
DTEND;VALUE=DATE:20100917
TRANSP:TRANSPARENT
X-MICROSOFT-CDO-ALLDAYEVENT:TRUE
SUMMARY:Beaufort Regional Chamber Grand Opening - Quality Inn at Town Center
DESCRIPTION:
X-ALT-DESC;FMTTYPE=text/html:
LOCATION:
UID:e.1212.3840
SEQUENCE:3
DTSTAMP:20260424T054306Z
URL:http://business.beaufortchamber.org/events/details/beaufort-regional-chamber-grand-opening-quality-inn-at-town-center-09-16-2010-3840
END:VEVENT

END:VCALENDAR
