BEGIN:VCALENDAR
VERSION:2.0
PRODID:-//ChamberMaster//Event Calendar 2.0//EN
METHOD:PUBLISH
X-PUBLISHED-TTL:P3D
REFRESH-INTERVAL:P3D
CALSCALE:GREGORIAN
BEGIN:VEVENT
DTSTART;VALUE=DATE:20090212
DTEND;VALUE=DATE:20090213
TRANSP:TRANSPARENT
X-MICROSOFT-CDO-ALLDAYEVENT:TRUE
SUMMARY:Beaufort Regional Chamber Growth and Infrastructure Committee
DESCRIPTION:This committee is focused on issues that occur around government planning and zoning as well as examining infrastructure capacity and housing needs that occur in fast growing areas such as ours.
X-ALT-DESC;FMTTYPE=text/html:This committee is focused on issues that occur around government planning and zoning as well as examining infrastructure capacity and housing needs that occur in fast growing areas such as ours.
LOCATION:
UID:e.1212.2963
SEQUENCE:3
DTSTAMP:20260425T112451Z
URL:http://business.beaufortchamber.org/events/details/beaufort-regional-chamber-growth-and-infrastructure-committee-02-12-2009-2963
END:VEVENT

END:VCALENDAR
