BEGIN:VCALENDAR
VERSION:2.0
PRODID:-//ChamberMaster//Event Calendar 2.0//EN
METHOD:PUBLISH
X-PUBLISHED-TTL:P3D
REFRESH-INTERVAL:P3D
CALSCALE:GREGORIAN
BEGIN:VEVENT
DTSTART;VALUE=DATE:20090304
DTEND;VALUE=DATE:20090305
TRANSP:TRANSPARENT
X-MICROSOFT-CDO-ALLDAYEVENT:TRUE
SUMMARY:Beaufort Regional Chamber Growth & Infrastructure Committee - Special Meeting
DESCRIPTION:Craig Lewis of the Lawrence Group located in Charlotte\, N.C. will share his expertise in form-based code.   Bring your own lunch.  \n\nFor more information on form-based code please click check out these websites:  \nhttp://www.formbasedcodes.org/ \nhttp://www.smartcodecentral.org\nhttp://www.transect.org
X-ALT-DESC;FMTTYPE=text/html:Craig Lewis of the Lawrence Group located in Charlotte\, N.C. will share his expertise in form-based code.   Bring your own lunch.  \n\nFor more information on form-based code please click check out these websites:  \nhttp://www.formbasedcodes.org/ \nhttp://www.smartcodecentral.org\nhttp://www.transect.org\n\n
LOCATION:
UID:e.1212.3043
SEQUENCE:3
DTSTAMP:20260425T112619Z
URL:http://business.beaufortchamber.org/events/details/beaufort-regional-chamber-growth-infrastructure-committee-special-meeting-03-04-2009-3043
END:VEVENT

END:VCALENDAR
