BEGIN:VCALENDAR
VERSION:2.0
PRODID:-//ChamberMaster//Event Calendar 2.0//EN
METHOD:PUBLISH
X-PUBLISHED-TTL:P3D
REFRESH-INTERVAL:P3D
CALSCALE:GREGORIAN
BEGIN:VEVENT
DTSTART;VALUE=DATE:20101115
DTEND;VALUE=DATE:20101116
TRANSP:TRANSPARENT
X-MICROSOFT-CDO-ALLDAYEVENT:TRUE
SUMMARY:Beaufort Regional Chamber - Harvey & Battey (Building Sale Check)
DESCRIPTION:Proceeds from sale of building at 1106 Carteret Street\, Bft\, SC 29902
X-ALT-DESC;FMTTYPE=text/html:Proceeds from sale of building at 1106 Carteret Street\, Bft\, SC 29902
LOCATION:
UID:e.1212.3881
SEQUENCE:3
DTSTAMP:20260424T024047Z
URL:http://business.beaufortchamber.org/events/details/beaufort-regional-chamber-harvey-battey-building-sale-check-11-15-2010-3881
END:VEVENT

END:VCALENDAR
