BEGIN:VCALENDAR
VERSION:2.0
PRODID:-//ChamberMaster//Event Calendar 2.0//EN
METHOD:PUBLISH
X-PUBLISHED-TTL:P3D
REFRESH-INTERVAL:P3D
CALSCALE:GREGORIAN
BEGIN:VEVENT
DTSTART;VALUE=DATE:20090127
DTEND;VALUE=DATE:20090128
TRANSP:TRANSPARENT
X-MICROSOFT-CDO-ALLDAYEVENT:TRUE
SUMMARY:Beaufort Regional Chamber Jan - Breakfast & Brainfood
DESCRIPTION:Speaker: Dr. W. Sam Adams of the University of Wisconsin will present "How businesses can save delivery of service time and motivate employees to improve their work through teamwork".  Learn the value of teamwork within an organization so employees will eagerly take on more responsibility.  Be able to understand and apply principles to improve employee morale and achieve company goals. Statistically demonstrate to all members of the organization how these principles and practice make sound management sense.  RSVP by Friday\, January 23.    Members $5    Non Members  $15
X-ALT-DESC;FMTTYPE=text/html:Speaker: Dr. W. Sam Adams of the University of Wisconsin will present "How businesses can save delivery of service time and motivate employees to improve their work through teamwork".  Learn the value of teamwork within an organization so employees will eagerly take on more responsibility.  Be able to understand and apply principles to improve employee morale and achieve company goals. Statistically demonstrate to all members of the organization how these principles and practice make sound management sense.  RSVP by Friday\, January 23.    Members $5    Non Members  $15
LOCATION:
UID:e.1212.2874
SEQUENCE:3
DTSTAMP:20260425T125142Z
URL:http://business.beaufortchamber.org/events/details/beaufort-regional-chamber-jan-breakfast-brainfood-01-27-2009-2874
END:VEVENT

END:VCALENDAR
