BEGIN:VCALENDAR
VERSION:2.0
PRODID:-//ChamberMaster//Event Calendar 2.0//EN
METHOD:PUBLISH
X-PUBLISHED-TTL:P3D
REFRESH-INTERVAL:P3D
CALSCALE:GREGORIAN
BEGIN:VEVENT
DTSTART;VALUE=DATE:20090128
DTEND;VALUE=DATE:20090129
TRANSP:TRANSPARENT
X-MICROSOFT-CDO-ALLDAYEVENT:TRUE
SUMMARY:Beaufort Regional Chamber Jan - Business 101
DESCRIPTION:Come listen to our speakers and learn how to get your business "Back to Basics" through legal impact\, fiscal management\, funding strategies\, business planning\, statistics and much more !  $25 Members  $35 Non Members.   RSVP by  Monday\, January 26.  the
X-ALT-DESC;FMTTYPE=text/html:Come listen to our speakers and learn how to get your business "Back to Basics" through legal impact\, fiscal management\, funding strategies\, business planning\, statistics and much more !  $25 Members  $35 Non Members.   RSVP by  Monday\, January 26.  the\n
LOCATION:
UID:e.1212.2852
SEQUENCE:3
DTSTAMP:20260425T125203Z
URL:http://business.beaufortchamber.org/events/details/beaufort-regional-chamber-jan-business-101-01-28-2009-2852
END:VEVENT

END:VCALENDAR
