BEGIN:VCALENDAR
VERSION:2.0
PRODID:-//ChamberMaster//Event Calendar 2.0//EN
METHOD:PUBLISH
X-PUBLISHED-TTL:P3D
REFRESH-INTERVAL:P3D
CALSCALE:GREGORIAN
BEGIN:VEVENT
DTSTART;VALUE=DATE:20090116
DTEND;VALUE=DATE:20090117
TRANSP:TRANSPARENT
X-MICROSOFT-CDO-ALLDAYEVENT:TRUE
SUMMARY:Beaufort Regional Chamber Jan - Coffee with Colleagues
DESCRIPTION:Start your morning off right by networking with fellow Chamber members. Coffee and food products are available to purchase for your enjoyment  while having great conversations.    Free to Chamber members.
X-ALT-DESC;FMTTYPE=text/html:Start your morning off right by networking with fellow Chamber members. Coffee and food products are available to purchase for your enjoyment  while having great conversations.    Free to Chamber members.
LOCATION:
UID:e.1212.2869
SEQUENCE:3
DTSTAMP:20260425T124605Z
URL:http://business.beaufortchamber.org/events/details/beaufort-regional-chamber-jan-coffee-with-colleagues-01-16-2009-2869
END:VEVENT

END:VCALENDAR
