BEGIN:VCALENDAR
VERSION:2.0
PRODID:-//ChamberMaster//Event Calendar 2.0//EN
METHOD:PUBLISH
X-PUBLISHED-TTL:P3D
REFRESH-INTERVAL:P3D
CALSCALE:GREGORIAN
BEGIN:VEVENT
DTSTART;VALUE=DATE:20091217
DTEND;VALUE=DATE:20091218
TRANSP:TRANSPARENT
X-MICROSOFT-CDO-ALLDAYEVENT:TRUE
SUMMARY:Beaufort Regional Chamber - Joint Board of Directors / VCB Board Meeting
DESCRIPTION:This Board of Directors sets policy\, develops the chambers strategic pan and serves as the governing body of the organization.
X-ALT-DESC;FMTTYPE=text/html:This Board of Directors sets policy\, develops the chambers strategic pan and serves as the governing body of the organization.
LOCATION:
UID:e.1212.3400
SEQUENCE:3
DTSTAMP:20260424T193914Z
URL:http://business.beaufortchamber.org/events/details/beaufort-regional-chamber-joint-board-of-directors-vcb-board-meeting-12-17-2009-3400
END:VEVENT

END:VCALENDAR
