BEGIN:VCALENDAR
VERSION:2.0
PRODID:-//ChamberMaster//Event Calendar 2.0//EN
METHOD:PUBLISH
X-PUBLISHED-TTL:P3D
REFRESH-INTERVAL:P3D
CALSCALE:GREGORIAN
BEGIN:VEVENT
DTSTART;VALUE=DATE:20090702
DTEND;VALUE=DATE:20090703
TRANSP:TRANSPARENT
X-MICROSOFT-CDO-ALLDAYEVENT:TRUE
SUMMARY:Beaufort Regional Chamber July - Bluffton Networking Group
DESCRIPTION:Network with fellow Chamber members.  Speaker: The Island Packet/The Beaufort Gazette will present tips on "How to Get Your News" in their news papers.  Presenting "Tips on Making Your Marketing Dollar Work Harder" will be Jeff Kidd\, Editor of the Beaufort Gazette and Sandy Gillis\, Vice President  Advertising.  Free to Chamber members.
X-ALT-DESC;FMTTYPE=text/html:Network with fellow Chamber members.  Speaker: The Island Packet/The Beaufort Gazette will present tips on "How to Get Your News" in their news papers.  Presenting "Tips on Making Your Marketing Dollar Work Harder" will be Jeff Kidd\, Editor of the Beaufort Gazette and Sandy Gillis\, Vice President  Advertising.  Free to Chamber members.
LOCATION:
UID:e.1212.3336
SEQUENCE:3
DTSTAMP:20260425T024947Z
URL:http://business.beaufortchamber.org/events/details/beaufort-regional-chamber-july-bluffton-networking-group-07-02-2009-3336
END:VEVENT

END:VCALENDAR
