BEGIN:VCALENDAR
VERSION:2.0
PRODID:-//ChamberMaster//Event Calendar 2.0//EN
METHOD:PUBLISH
X-PUBLISHED-TTL:P3D
REFRESH-INTERVAL:P3D
CALSCALE:GREGORIAN
BEGIN:VEVENT
DTSTART;VALUE=DATE:20090708
DTEND;VALUE=DATE:20090709
TRANSP:TRANSPARENT
X-MICROSOFT-CDO-ALLDAYEVENT:TRUE
SUMMARY:Beaufort Regional Chamber July - Business 101
DESCRIPTION:Come listen to our speakers and learn how to get your business "Back to Basics" through legal impact\, fiscal management\, funding strategies\, commercial insurance\, business planning\, statistics and much more !  $25 Members  $35 Non Members.   Please RSVP by  Monday\, July 6.
X-ALT-DESC;FMTTYPE=text/html:Come listen to our speakers and learn how to get your business "Back to Basics" through legal impact\, fiscal management\, funding strategies\, commercial insurance\, business planning\, statistics and much more !  $25 Members  $35 Non Members.   Please RSVP by  Monday\, July 6.
LOCATION:
UID:e.1212.3341
SEQUENCE:3
DTSTAMP:20260425T025122Z
URL:http://business.beaufortchamber.org/events/details/beaufort-regional-chamber-july-business-101-07-08-2009-3341
END:VEVENT

END:VCALENDAR
