BEGIN:VCALENDAR
VERSION:2.0
PRODID:-//ChamberMaster//Event Calendar 2.0//EN
METHOD:PUBLISH
X-PUBLISHED-TTL:P3D
REFRESH-INTERVAL:P3D
CALSCALE:GREGORIAN
BEGIN:VEVENT
DTSTART;VALUE=DATE:20090721
DTEND;VALUE=DATE:20090722
TRANSP:TRANSPARENT
X-MICROSOFT-CDO-ALLDAYEVENT:TRUE
SUMMARY:Beaufort Regional Chamber - Local Government Update
DESCRIPTION:Speakers: City of Beaufort Manager\, Scott Dadson\, Town of Port Royal Manager\, Van Willis and Beaufort County Administrator\, Gary Kubic will speak about things going on in our city\, town and county.   Members $10.  Non-Members $20.  Please RSVP by Friday\, July 17.
X-ALT-DESC;FMTTYPE=text/html:Speakers: City of Beaufort Manager\, Scott Dadson\, Town of Port Royal Manager\, Van Willis and Beaufort County Administrator\, Gary Kubic will speak about things going on in our city\, town and county.   Members $10.  Non-Members $20.  Please RSVP by Friday\, July 17.
LOCATION:
UID:e.1212.3347
SEQUENCE:3
DTSTAMP:20260425T025109Z
URL:http://business.beaufortchamber.org/events/details/beaufort-regional-chamber-local-government-update-07-21-2009-3347
END:VEVENT

END:VCALENDAR
