BEGIN:VCALENDAR
VERSION:2.0
PRODID:-//ChamberMaster//Event Calendar 2.0//EN
METHOD:PUBLISH
X-PUBLISHED-TTL:P3D
REFRESH-INTERVAL:P3D
CALSCALE:GREGORIAN
BEGIN:VEVENT
DTSTART;VALUE=DATE:20091021
DTEND;VALUE=DATE:20091022
TRANSP:TRANSPARENT
X-MICROSOFT-CDO-ALLDAYEVENT:TRUE
SUMMARY:Beaufort Regional Chamber - Lunch and Learn Series - 'H1N1' Flu Update'
DESCRIPTION:Nick Davidson\, Public Information Officer for SC DHEC\, will present a special update to the business community on the newest flu strain and what we need to know to create healthy work environments.\nCost includes lunch: Members $10    Non-Members $20  \nRSVP by Monday\, October 19.
X-ALT-DESC;FMTTYPE=text/html:Nick Davidson\, Public Information Officer for SC DHEC\, will present a special update to the business community on the newest flu strain and what we need to know to create healthy work environments.\nCost includes lunch: Members $10    Non-Members $20  \nRSVP by Monday\, October 19.
LOCATION:
UID:e.1212.3569
SEQUENCE:3
DTSTAMP:20260424T221713Z
URL:http://business.beaufortchamber.org/events/details/beaufort-regional-chamber-lunch-and-learn-series-h1n1-flu-update-10-21-2009-3569
END:VEVENT

END:VCALENDAR
