BEGIN:VCALENDAR
VERSION:2.0
PRODID:-//ChamberMaster//Event Calendar 2.0//EN
METHOD:PUBLISH
X-PUBLISHED-TTL:P3D
REFRESH-INTERVAL:P3D
CALSCALE:GREGORIAN
BEGIN:VEVENT
DTSTART;VALUE=DATE:20091117
DTEND;VALUE=DATE:20091118
TRANSP:TRANSPARENT
X-MICROSOFT-CDO-ALLDAYEVENT:TRUE
SUMMARY:Beaufort Regional Chamber Military Affairs Committee
DESCRIPTION:This committee works at the state and federal level to encourage protection and enhancement of all three military installations in the Beaufort area..\n\nMeeting canceled and next one to be in Jan 2010 per Jayson
X-ALT-DESC;FMTTYPE=text/html:This committee works at the state and federal level to encourage protection and enhancement of all three military installations in the Beaufort area..\n\nMeeting canceled and next one to be in Jan 2010 per Jayson
LOCATION:
UID:e.1212.2932
SEQUENCE:3
DTSTAMP:20260424T221855Z
URL:http://business.beaufortchamber.org/events/details/beaufort-regional-chamber-military-affairs-committee-11-17-2009-2932
END:VEVENT

END:VCALENDAR
