BEGIN:VCALENDAR
VERSION:2.0
PRODID:-//ChamberMaster//Event Calendar 2.0//EN
METHOD:PUBLISH
X-PUBLISHED-TTL:P3D
REFRESH-INTERVAL:P3D
CALSCALE:GREGORIAN
BEGIN:VEVENT
DTSTART;VALUE=DATE:20091215
DTEND;VALUE=DATE:20091216
TRANSP:TRANSPARENT
X-MICROSOFT-CDO-ALLDAYEVENT:TRUE
SUMMARY:Beaufort Regional Chamber Military Affairs Committee
DESCRIPTION:This committee works at the state and federal level to encourage protection and enhancement of all three military installations in the Beaufort area.\n\nMeeting was canceled and next meeting to be in Jan 2010
X-ALT-DESC;FMTTYPE=text/html:This committee works at the state and federal level to encourage protection and enhancement of all three military installations in the Beaufort area.\n\nMeeting was canceled and next meeting to be in Jan 2010
LOCATION:
UID:e.1212.2933
SEQUENCE:3
DTSTAMP:20260424T193937Z
URL:http://business.beaufortchamber.org/events/details/beaufort-regional-chamber-military-affairs-committee-12-15-2009-2933
END:VEVENT

END:VCALENDAR
