BEGIN:VCALENDAR
VERSION:2.0
PRODID:-//ChamberMaster//Event Calendar 2.0//EN
METHOD:PUBLISH
X-PUBLISHED-TTL:P3D
REFRESH-INTERVAL:P3D
CALSCALE:GREGORIAN
BEGIN:VEVENT
DTSTART;VALUE=DATE:20081202
DTEND;VALUE=DATE:20081203
TRANSP:TRANSPARENT
X-MICROSOFT-CDO-ALLDAYEVENT:TRUE
SUMMARY:Beaufort Regional Chamber New Member Reception
DESCRIPTION:A chance for our new members to meet and mingle with the Chamber board\, staff and ambassadors\; attendees will learn more about what services the Beaufort Regional Chamber offers its members
X-ALT-DESC;FMTTYPE=text/html:A chance for our new members to meet and mingle with the Chamber board\, staff and ambassadors\; attendees will learn more about what services the Beaufort Regional Chamber offers its members
LOCATION:Beaufort
UID:e.1212.2830
SEQUENCE:3
DTSTAMP:20260425T141352Z
URL:http://business.beaufortchamber.org/events/details/beaufort-regional-chamber-new-member-reception-12-02-2008-2830
END:VEVENT

END:VCALENDAR
