BEGIN:VCALENDAR
VERSION:2.0
PRODID:-//ChamberMaster//Event Calendar 2.0//EN
METHOD:PUBLISH
X-PUBLISHED-TTL:P3D
REFRESH-INTERVAL:P3D
CALSCALE:GREGORIAN
BEGIN:VEVENT
DTSTART;VALUE=DATE:20091124
DTEND;VALUE=DATE:20091125
TRANSP:TRANSPARENT
X-MICROSOFT-CDO-ALLDAYEVENT:TRUE
SUMMARY:Beaufort Regional Chamber November - Breakfast & Brainfood
DESCRIPTION:Speaker:  Bernie Moscovitz\, The Alternative Board\nTopic: Learn how to focus and sharpen your business vision\nCost: $5 Members\nCost: $10 for Non-Members\nRSVP by Tuesday\, November 20
X-ALT-DESC;FMTTYPE=text/html:Speaker:  Bernie Moscovitz\, The Alternative Board\nTopic: Learn how to focus and sharpen your business vision\nCost: $5 Members\nCost: $10 for Non-Members\nRSVP by Tuesday\, November 20
LOCATION:
UID:e.1212.3614
SEQUENCE:3
DTSTAMP:20260424T210450Z
URL:http://business.beaufortchamber.org/events/details/beaufort-regional-chamber-november-breakfast-brainfood-11-24-2009-3614
END:VEVENT

END:VCALENDAR
