BEGIN:VCALENDAR
VERSION:2.0
PRODID:-//ChamberMaster//Event Calendar 2.0//EN
METHOD:PUBLISH
X-PUBLISHED-TTL:P3D
REFRESH-INTERVAL:P3D
CALSCALE:GREGORIAN
BEGIN:VEVENT
DTSTART;VALUE=DATE:20091016
DTEND;VALUE=DATE:20091017
TRANSP:TRANSPARENT
X-MICROSOFT-CDO-ALLDAYEVENT:TRUE
SUMMARY:Beaufort Regional Chamber Oct - Coffee with Colleagues
DESCRIPTION:Start your morning off right by networking with fellow Chamber members\nCoffee and food products are available to purchase for your enjoyment\nCost:  Free to Chamber members.
X-ALT-DESC;FMTTYPE=text/html:Start your morning off right by networking with fellow Chamber members\nCoffee and food products are available to purchase for your enjoyment\nCost:  Free to Chamber members.
LOCATION:
UID:e.1212.3544
SEQUENCE:3
DTSTAMP:20260424T232920Z
URL:http://business.beaufortchamber.org/events/details/beaufort-regional-chamber-oct-coffee-with-colleagues-10-16-2009-3544
END:VEVENT

END:VCALENDAR
