BEGIN:VCALENDAR
VERSION:2.0
PRODID:-//ChamberMaster//Event Calendar 2.0//EN
METHOD:PUBLISH
X-PUBLISHED-TTL:P3D
REFRESH-INTERVAL:P3D
CALSCALE:GREGORIAN
BEGIN:VEVENT
DTSTART;VALUE=DATE:20091015
DTEND;VALUE=DATE:20091016
TRANSP:TRANSPARENT
X-MICROSOFT-CDO-ALLDAYEVENT:TRUE
SUMMARY:Beaufort Regional Chamber Oct - Membership Committee
DESCRIPTION:Free to Chamber members
X-ALT-DESC;FMTTYPE=text/html:Free to Chamber members
LOCATION:
UID:e.1212.3604
SEQUENCE:3
DTSTAMP:20260424T221712Z
URL:http://business.beaufortchamber.org/events/details/beaufort-regional-chamber-oct-membership-committee-10-15-2009-3604
END:VEVENT

END:VCALENDAR
