BEGIN:VCALENDAR
VERSION:2.0
PRODID:-//ChamberMaster//Event Calendar 2.0//EN
METHOD:PUBLISH
X-PUBLISHED-TTL:P3D
REFRESH-INTERVAL:P3D
CALSCALE:GREGORIAN
BEGIN:VEVENT
DTSTART;VALUE=DATE:20091015
DTEND;VALUE=DATE:20091016
TRANSP:TRANSPARENT
X-MICROSOFT-CDO-ALLDAYEVENT:TRUE
SUMMARY:Beaufort Regional Chamber Oct - Small Business Committee
DESCRIPTION:This committee works to develop resources for small businesses to operate more effectively and assist the Chamber in managing member-to-member communications.    \nFree to Chamber members.
X-ALT-DESC;FMTTYPE=text/html:This committee works to develop resources for small businesses to operate more effectively and assist the Chamber in managing member-to-member communications.    \nFree to Chamber members.
LOCATION:
UID:e.1212.2942
SEQUENCE:3
DTSTAMP:20260424T233800Z
URL:http://business.beaufortchamber.org/events/details/beaufort-regional-chamber-oct-small-business-committee-10-15-2009-2942
END:VEVENT

END:VCALENDAR
