BEGIN:VCALENDAR
VERSION:2.0
PRODID:-//ChamberMaster//Event Calendar 2.0//EN
METHOD:PUBLISH
X-PUBLISHED-TTL:P3D
REFRESH-INTERVAL:P3D
CALSCALE:GREGORIAN
BEGIN:VEVENT
DTSTART;VALUE=DATE:20090912
DTEND;VALUE=DATE:20090913
TRANSP:TRANSPARENT
X-MICROSOFT-CDO-ALLDAYEVENT:TRUE
SUMMARY:Beaufort Regional Chamber of Commerce - Annual Military Appreciation Day
DESCRIPTION:Come out for an afternoon of fun as the Chamber\, along with several community leaders\, recognize the area's military for their committment to the defense of the United States and peacekeeping efforts around the globe.  Food\, drinks\, children's games\, music and more!  Free for all active\, reserve and retired military along with their families and friends are invited.  Sponsorships are still available.
X-ALT-DESC;FMTTYPE=text/html:Come out for an afternoon of fun as the Chamber\, along with several community leaders\, recognize the area's military for their committment to the defense of the United States and peacekeeping efforts around the globe.  Food\, drinks\, children's games\, music and more!  Free for all active\, reserve and retired military along with their families and friends are invited.  Sponsorships are still available.
LOCATION:Beaufort
UID:e.1212.2651
SEQUENCE:3
DTSTAMP:20260425T010939Z
URL:http://business.beaufortchamber.org/events/details/beaufort-regional-chamber-of-commerce-annual-military-appreciation-day-09-12-2009-2651
END:VEVENT

END:VCALENDAR
