BEGIN:VCALENDAR
VERSION:2.0
PRODID:-//ChamberMaster//Event Calendar 2.0//EN
METHOD:PUBLISH
X-PUBLISHED-TTL:P3D
REFRESH-INTERVAL:P3D
CALSCALE:GREGORIAN
BEGIN:VEVENT
DTSTART;VALUE=DATE:20091029
DTEND;VALUE=DATE:20091030
TRANSP:TRANSPARENT
X-MICROSOFT-CDO-ALLDAYEVENT:TRUE
SUMMARY:Beaufort Regional Chamber - Port Royal Candidates Forum
DESCRIPTION:Take this opportunity to come out and participate in the upcoming "Candidates' Forum" for the election to be held on November 3.  This program is presented by the Beaufort Regional Chamber\, Old Village Association\, Lowcountry Young Professionals and the Beaufort Gazette.  The Gazette will provide the moderator for the forum.\nCost:  Free and open to the public\nRSVP by Thursday\, October 22
X-ALT-DESC;FMTTYPE=text/html:Take this opportunity to come out and participate in the upcoming "Candidates' Forum" for the election to be held on November 3.  This program is presented by the Beaufort Regional Chamber\, Old Village Association\, Lowcountry Young Professionals and the Beaufort Gazette.  The Gazette will provide the moderator for the forum.\nCost:  Free and open to the public\nRSVP by Thursday\, October 22
LOCATION:
UID:e.1212.3615
SEQUENCE:3
DTSTAMP:20260424T221908Z
URL:http://business.beaufortchamber.org/events/details/beaufort-regional-chamber-port-royal-candidates-forum-10-29-2009-3615
END:VEVENT

END:VCALENDAR
