BEGIN:VCALENDAR
VERSION:2.0
PRODID:-//ChamberMaster//Event Calendar 2.0//EN
METHOD:PUBLISH
X-PUBLISHED-TTL:P3D
REFRESH-INTERVAL:P3D
CALSCALE:GREGORIAN
BEGIN:VEVENT
DTSTART;VALUE=DATE:20090903
DTEND;VALUE=DATE:20090904
TRANSP:TRANSPARENT
X-MICROSOFT-CDO-ALLDAYEVENT:TRUE
SUMMARY:Beaufort Regional Chamber Sept - Bluffton Networking Group
DESCRIPTION:Network with fellow Chamber members.  Speaker Alisa Caruso of Kuhn & Kuhn\, LLC\, Attorneys and Counselors at Law will present "Estate Planning For You and Your Business".        Free to Chamber members.
X-ALT-DESC;FMTTYPE=text/html:Network with fellow Chamber members.  Speaker Alisa Caruso of Kuhn & Kuhn\, LLC\, Attorneys and Counselors at Law will present "Estate Planning For You and Your Business".        Free to Chamber members.
LOCATION:
UID:e.1212.3338
SEQUENCE:3
DTSTAMP:20260424T234935Z
URL:http://business.beaufortchamber.org/events/details/beaufort-regional-chamber-sept-bluffton-networking-group-09-03-2009-3338
END:VEVENT

END:VCALENDAR
