BEGIN:VCALENDAR
VERSION:2.0
PRODID:-//ChamberMaster//Event Calendar 2.0//EN
METHOD:PUBLISH
X-PUBLISHED-TTL:P3D
REFRESH-INTERVAL:P3D
CALSCALE:GREGORIAN
BEGIN:VEVENT
DTSTART;VALUE=DATE:20100114
DTEND;VALUE=DATE:20100115
TRANSP:TRANSPARENT
X-MICROSOFT-CDO-ALLDAYEVENT:TRUE
SUMMARY:Beaufort Regional Chamber - Small Business & Entrepreneurship Committee
DESCRIPTION:This committee works to develop resources for small businesses to operate more effectively and assist the Chamber in managing member-to-member communications.   \nCot: Free to Chamber members.
X-ALT-DESC;FMTTYPE=text/html:This committee works to develop resources for small businesses to operate more effectively and assist the Chamber in managing member-to-member communications.   \nCot: Free to Chamber members.
LOCATION:
UID:e.1212.3738
SEQUENCE:3
DTSTAMP:20260424T184427Z
URL:http://business.beaufortchamber.org/events/details/beaufort-regional-chamber-small-business-entrepreneurship-committee-01-14-2010-3738
END:VEVENT

END:VCALENDAR
