BEGIN:VCALENDAR
VERSION:2.0
PRODID:-//ChamberMaster//Event Calendar 2.0//EN
METHOD:PUBLISH
X-PUBLISHED-TTL:P3D
REFRESH-INTERVAL:P3D
CALSCALE:GREGORIAN
BEGIN:VEVENT
DTSTART;VALUE=DATE:20091015
DTEND;VALUE=DATE:20091016
TRANSP:TRANSPARENT
X-MICROSOFT-CDO-ALLDAYEVENT:TRUE
SUMMARY:Beaufort Regional Chamber 'Talk with Tom'
DESCRIPTION:Senator Tom Davis will be in Beaufort this month for his tour "Talk with Tom" series.  He will present on matters likely to be considered by the state legislature\, followed by an extended Q&A period.\nTopics: Increasing transparency\, focusing on the economy\, reforming our antiquated government struture\, revising school funding formulas\, protecting our natural resources and restoring local control over local matters - just to name a few.\nCost: Free and open to the public\nRSVP by Wednesday\, October 14
X-ALT-DESC;FMTTYPE=text/html:Senator Tom Davis will be in Beaufort this month for his tour "Talk with Tom" series.  He will present on matters likely to be considered by the state legislature\, followed by an extended Q&A period.\nTopics: Increasing transparency\, focusing on the economy\, reforming our antiquated government struture\, revising school funding formulas\, protecting our natural resources and restoring local control over local matters - just to name a few.\nCost: Free and open to the public\nRSVP by Wednesday\, October 14
LOCATION:
UID:e.1212.3616
SEQUENCE:3
DTSTAMP:20260424T221624Z
URL:http://business.beaufortchamber.org/events/details/beaufort-regional-chamber-talk-with-tom-10-15-2009-3616
END:VEVENT

END:VCALENDAR
