BEGIN:VCALENDAR
VERSION:2.0
PRODID:-//ChamberMaster//Event Calendar 2.0//EN
METHOD:PUBLISH
X-PUBLISHED-TTL:P3D
REFRESH-INTERVAL:P3D
CALSCALE:GREGORIAN
BEGIN:VEVENT
DTSTART;VALUE=DATE:20091021
DTEND;VALUE=DATE:20091022
TRANSP:TRANSPARENT
X-MICROSOFT-CDO-ALLDAYEVENT:TRUE
SUMMARY:Beaufort Regional Chamber 'Talk with Tom'
DESCRIPTION:Senator Tom Davis will be in Port Royal this month for his tour "Talk with Tom" series.  He will present a short program on matters likely to be considered by state legislature\, followed by and extended Q & A period.  \nTopics: Increasing transparency\, focusing on the economy\, reforming our antiquated  government structure\, revising school funding\, protecting our natural resources and resotring local control over local matters - just to name a few.\nCost: Free and open to the public\nRSVP by Monday\, October 19
X-ALT-DESC;FMTTYPE=text/html:Senator Tom Davis will be in Port Royal this month for his tour "Talk with Tom" series.  He will present a short program on matters likely to be considered by state legislature\, followed by and extended Q & A period.  \nTopics: Increasing transparency\, focusing on the economy\, reforming our antiquated  government structure\, revising school funding\, protecting our natural resources and resotring local control over local matters - just to name a few.\nCost: Free and open to the public\nRSVP by Monday\, October 19
LOCATION:
UID:e.1212.3634
SEQUENCE:3
DTSTAMP:20260424T221614Z
URL:http://business.beaufortchamber.org/events/details/beaufort-regional-chamber-talk-with-tom-10-21-2009-3634
END:VEVENT

END:VCALENDAR
