BEGIN:VCALENDAR
VERSION:2.0
PRODID:-//ChamberMaster//Event Calendar 2.0//EN
METHOD:PUBLISH
X-PUBLISHED-TTL:P3D
REFRESH-INTERVAL:P3D
CALSCALE:GREGORIAN
BEGIN:VEVENT
DTSTART;VALUE=DATE:20091117
DTEND;VALUE=DATE:20091118
TRANSP:TRANSPARENT
X-MICROSOFT-CDO-ALLDAYEVENT:TRUE
SUMMARY:Beaufort Regional Chamber 'Talk with Tom'
DESCRIPTION:Senator Tom Davis will be in Port Royal this month for his tour "Talk with Tom" series.  He will present a short program on matters likely to be considered by state legislature\, followed by and extended Q & A period.  \nTopics: Increasing transparency\, focusing on the economy\, reforming our antiquated government structure\, revising school funding formulas\, protecting our natural resources and restoring local control over local matters - just to name a few.\nCost: Free and open to the public\nRSVP by Friday\, November 13
X-ALT-DESC;FMTTYPE=text/html:Senator Tom Davis will be in Port Royal this month for his tour "Talk with Tom" series.  He will present a short program on matters likely to be considered by state legislature\, followed by and extended Q & A period.  \nTopics: Increasing transparency\, focusing on the economy\, reforming our antiquated government structure\, revising school funding formulas\, protecting our natural resources and restoring local control over local matters - just to name a few.\nCost: Free and open to the public\nRSVP by Friday\, November 13
LOCATION:
UID:e.1212.3617
SEQUENCE:3
DTSTAMP:20260424T205335Z
URL:http://business.beaufortchamber.org/events/details/beaufort-regional-chamber-talk-with-tom-11-17-2009-3617
END:VEVENT

END:VCALENDAR
