BEGIN:VCALENDAR
VERSION:2.0
PRODID:-//ChamberMaster//Event Calendar 2.0//EN
METHOD:PUBLISH
X-PUBLISHED-TTL:P3D
REFRESH-INTERVAL:P3D
CALSCALE:GREGORIAN
BEGIN:VEVENT
DTSTART;VALUE=DATE:20090106
DTEND;VALUE=DATE:20090107
TRANSP:TRANSPARENT
X-MICROSOFT-CDO-ALLDAYEVENT:TRUE
SUMMARY:Beaufort Regional Chamber Tourism Committee
DESCRIPTION:The committee will be using a brainstorming technique to identify what the group believes are the best assets to the area and what the best target markets are.
X-ALT-DESC;FMTTYPE=text/html:The committee will be using a brainstorming technique to identify what the group believes are the best assets to the area and what the best target markets are.
LOCATION:
UID:e.1212.2863
SEQUENCE:3
DTSTAMP:20260425T125312Z
URL:http://business.beaufortchamber.org/events/details/beaufort-regional-chamber-tourism-committee-01-06-2009-2863
END:VEVENT

END:VCALENDAR
