BEGIN:VCALENDAR
VERSION:2.0
PRODID:-//ChamberMaster//Event Calendar 2.0//EN
METHOD:PUBLISH
X-PUBLISHED-TTL:P3D
REFRESH-INTERVAL:P3D
CALSCALE:GREGORIAN
BEGIN:VEVENT
DTSTART;VALUE=DATE:20090203
DTEND;VALUE=DATE:20090204
TRANSP:TRANSPARENT
X-MICROSOFT-CDO-ALLDAYEVENT:TRUE
SUMMARY:Beaufort Regional Chamber Tourism Committee
DESCRIPTION:The committee will be using a brainstorming technique to identify what the group believes are the best assets to the area and what the best target markets are.  They work on enhancing the tourism product in Beaufort County as well as supporting marketing efforts of the area.
X-ALT-DESC;FMTTYPE=text/html:The committee will be using a brainstorming technique to identify what the group believes are the best assets to the area and what the best target markets are.  They work on enhancing the tourism product in Beaufort County as well as supporting marketing efforts of the area.
LOCATION:
UID:e.1212.2880
SEQUENCE:3
DTSTAMP:20260425T124747Z
URL:http://business.beaufortchamber.org/events/details/beaufort-regional-chamber-tourism-committee-02-03-2009-2880
END:VEVENT

END:VCALENDAR
