BEGIN:VCALENDAR
VERSION:2.0
PRODID:-//ChamberMaster//Event Calendar 2.0//EN
METHOD:PUBLISH
X-PUBLISHED-TTL:P3D
REFRESH-INTERVAL:P3D
CALSCALE:GREGORIAN
BEGIN:VEVENT
DTSTART;VALUE=DATE:20100323
DTEND;VALUE=DATE:20100324
TRANSP:TRANSPARENT
X-MICROSOFT-CDO-ALLDAYEVENT:TRUE
SUMMARY:Beaufort Regional Chamber - Tourism Council
DESCRIPTION:This council meets to discuss various topics related to the tourism industry in the Beaufort area.  The meetings are open to the public.
X-ALT-DESC;FMTTYPE=text/html:This council meets to discuss various topics related to the tourism industry in the Beaufort area.  The meetings are open to the public.
LOCATION:
UID:e.1212.3537
SEQUENCE:3
DTSTAMP:20260424T155028Z
URL:http://business.beaufortchamber.org/events/details/beaufort-regional-chamber-tourism-council-03-23-2010-3537
END:VEVENT

END:VCALENDAR
