BEGIN:VCALENDAR
VERSION:2.0
PRODID:-//ChamberMaster//Event Calendar 2.0//EN
METHOD:PUBLISH
X-PUBLISHED-TTL:P3D
REFRESH-INTERVAL:P3D
CALSCALE:GREGORIAN
BEGIN:VEVENT
DTSTART;VALUE=DATE:20100209
DTEND;VALUE=DATE:20100210
TRANSP:TRANSPARENT
X-MICROSOFT-CDO-ALLDAYEVENT:TRUE
SUMMARY:Beaufort Regional Chamber VCB - Board Meeting
DESCRIPTION:This board is the advisory and decision making board that determines\, in concert with the VCB professional staff\, the goals and strategies needed for Beaufort\, Port Royal and the Sea Islands to strengthen and grow the tourism economy of Northern Beaufort County.
X-ALT-DESC;FMTTYPE=text/html:This board is the advisory and decision making board that determines\, in concert with the VCB professional staff\, the goals and strategies needed for Beaufort\, Port Royal and the Sea Islands to strengthen and grow the tourism economy of Northern Beaufort County.
LOCATION:
UID:e.1212.3767
SEQUENCE:3
DTSTAMP:20260424T171812Z
URL:http://business.beaufortchamber.org/events/details/beaufort-regional-chamber-vcb-board-meeting-02-09-2010-3767
END:VEVENT

END:VCALENDAR
