BEGIN:VCALENDAR
VERSION:2.0
PRODID:-//ChamberMaster//Event Calendar 2.0//EN
METHOD:PUBLISH
X-PUBLISHED-TTL:P3D
REFRESH-INTERVAL:P3D
CALSCALE:GREGORIAN
BEGIN:VEVENT
DTSTART;VALUE=DATE:20091110
DTEND;VALUE=DATE:20091111
TRANSP:TRANSPARENT
X-MICROSOFT-CDO-ALLDAYEVENT:TRUE
SUMMARY:Beaufort Regional Chamber VCB - Board Meeting
DESCRIPTION:This board is the advisory and decision making board that determines\, in concert with the VCB professional staff\, the goals and strategies needed for Beaufort\, Port Royal and the Sea Islands to strengthen and grow the tourism economy of Northern Beaufort County.
X-ALT-DESC;FMTTYPE=text/html:This board is the advisory and decision making board that determines\, in concert with the VCB professional staff\, the goals and strategies needed for Beaufort\, Port Royal and the Sea Islands to strengthen and grow the tourism economy of Northern Beaufort County.
LOCATION:
UID:e.1212.3248
SEQUENCE:3
DTSTAMP:20260424T204846Z
URL:http://business.beaufortchamber.org/events/details/beaufort-regional-chamber-vcb-board-meeting-11-10-2009-3248
END:VEVENT

END:VCALENDAR
