BEGIN:VCALENDAR
VERSION:2.0
PRODID:-//ChamberMaster//Event Calendar 2.0//EN
METHOD:PUBLISH
X-PUBLISHED-TTL:P3D
REFRESH-INTERVAL:P3D
CALSCALE:GREGORIAN
BEGIN:VEVENT
DTSTART;VALUE=DATE:20091209
DTEND;VALUE=DATE:20091210
TRANSP:TRANSPARENT
X-MICROSOFT-CDO-ALLDAYEVENT:TRUE
SUMMARY:Beaufort Regional Chamber - VCB Marketing & Information Series
DESCRIPTION:Watch for Details !
X-ALT-DESC;FMTTYPE=text/html:Watch for Details !
LOCATION:
UID:e.1212.3542
SEQUENCE:3
DTSTAMP:20260424T193813Z
URL:http://business.beaufortchamber.org/events/details/beaufort-regional-chamber-vcb-marketing-information-series-12-09-2009-3542
END:VEVENT

END:VCALENDAR
