BEGIN:VCALENDAR
VERSION:2.0
PRODID:-//ChamberMaster//Event Calendar 2.0//EN
METHOD:PUBLISH
X-PUBLISHED-TTL:P3D
REFRESH-INTERVAL:P3D
CALSCALE:GREGORIAN
BEGIN:VEVENT
DTSTART;VALUE=DATE:20090729
DTEND;VALUE=DATE:20090730
TRANSP:TRANSPARENT
X-MICROSOFT-CDO-ALLDAYEVENT:TRUE
SUMMARY:Beaufort Regional Chamber - VCB Marketing Plan Presentation
DESCRIPTION:Located behind the museum.  Gather with fellow St. Helena business owners and meet our new VCB Executive Director\, Charles Lehmann.  This meeting will include information about our new Visitor and Convention Bureau Marketing Plan including recent advertisements\, a new branding campaign as well as a new website.  We are creating many new programs and marketing opportunities for the tourism related businesses in northern Beaufort county. We want your opinion.  Please attend and share your ideas. This will be an open discussion with a Q&A session.  All are invited so please bring your business neighbors along.
X-ALT-DESC;FMTTYPE=text/html:Located behind the museum.  Gather with fellow St. Helena business owners and meet our new VCB Executive Director\, Charles Lehmann.  This meeting will include information about our new Visitor and Convention Bureau Marketing Plan including recent advertisements\, a new branding campaign as well as a new website.  We are creating many new programs and marketing opportunities for the tourism related businesses in northern Beaufort county. We want your opinion.  Please attend and share your ideas. This will be an open discussion with a Q&A session.  All are invited so please bring your business neighbors along.
LOCATION:
UID:e.1212.3391
SEQUENCE:3
DTSTAMP:20260425T025121Z
URL:http://business.beaufortchamber.org/events/details/beaufort-regional-chamber-vcb-marketing-plan-presentation-07-29-2009-3391
END:VEVENT

END:VCALENDAR
