BEGIN:VCALENDAR
VERSION:2.0
PRODID:-//ChamberMaster//Event Calendar 2.0//EN
METHOD:PUBLISH
X-PUBLISHED-TTL:P3D
REFRESH-INTERVAL:P3D
CALSCALE:GREGORIAN
BEGIN:VEVENT
DTSTART;VALUE=DATE:20091209
DTEND;VALUE=DATE:20091210
TRANSP:TRANSPARENT
X-MICROSOFT-CDO-ALLDAYEVENT:TRUE
SUMMARY:Beaufort Regional Chamber - VCB Tourism Info Series
DESCRIPTION:Topic:  “Sneak Peek at 2010 Chamber VCB Marketing:  Opportunities to Increase Your Business”\n\nThis is an opportunity for current and potential members to see a preview of the new VCB and Chamber web sites\, co-op advertising opportunities\, our new branding campaign and plans for increasing public relations efforts.
X-ALT-DESC;FMTTYPE=text/html:Topic:  “Sneak Peek at 2010 Chamber VCB Marketing:  Opportunities to Increase Your Business”\n\nThis is an opportunity for current and potential members to see a preview of the new VCB and Chamber web sites\, co-op advertising opportunities\, our new branding campaign and plans for increasing public relations efforts.
LOCATION:
UID:e.1212.3720
SEQUENCE:3
DTSTAMP:20260424T193644Z
URL:http://business.beaufortchamber.org/events/details/beaufort-regional-chamber-vcb-tourism-info-series-12-09-2009-3720
END:VEVENT

END:VCALENDAR
