BEGIN:VCALENDAR
VERSION:2.0
PRODID:-//ChamberMaster//Event Calendar 2.0//EN
METHOD:PUBLISH
X-PUBLISHED-TTL:P3D
REFRESH-INTERVAL:P3D
CALSCALE:GREGORIAN
BEGIN:VEVENT
DTSTART;VALUE=DATE:20101116
DTEND;VALUE=DATE:20101117
TRANSP:TRANSPARENT
X-MICROSOFT-CDO-ALLDAYEVENT:TRUE
SUMMARY:Beaufort Regional Chamber - Water Festival Refund Portion Sales VC
DESCRIPTION:Refund from Proceeds for sale of merchandise sold for Water Festival July 2010
X-ALT-DESC;FMTTYPE=text/html:Refund from Proceeds for sale of merchandise sold for Water Festival July 2010
LOCATION:
UID:e.1212.3883
SEQUENCE:3
DTSTAMP:20260424T024209Z
URL:http://business.beaufortchamber.org/events/details/beaufort-regional-chamber-water-festival-refund-portion-sales-vc-11-16-2010-3883
END:VEVENT

END:VCALENDAR
