BEGIN:VCALENDAR
VERSION:2.0
PRODID:-//ChamberMaster//Event Calendar 2.0//EN
METHOD:PUBLISH
X-PUBLISHED-TTL:P3D
REFRESH-INTERVAL:P3D
CALSCALE:GREGORIAN
BEGIN:VEVENT
DTSTART;VALUE=DATE:20081231
DTEND;VALUE=DATE:20090101
TRANSP:TRANSPARENT
X-MICROSOFT-CDO-ALLDAYEVENT:TRUE
SUMMARY:Beaufort Rotary Club Gala ' Welcome in 2009'
DESCRIPTION:Cocktails available with cash bar at 7:00pm.   Buffet Dinner at 8:00pm. Champagne at Midnight !    Dance the night away with "Ocean Highway".   Silent Auction.   Tickets:  $75 each.  RSVP by Friday\, December 26.
X-ALT-DESC;FMTTYPE=text/html:Cocktails available with cash bar at 7:00pm.   Buffet Dinner at 8:00pm. Champagne at Midnight !    Dance the night away with "Ocean Highway".   Silent Auction.   Tickets:  $75 each.  RSVP by Friday\, December 26.
LOCATION:
UID:e.1212.2857
SEQUENCE:3
DTSTAMP:20260425T152423Z
URL:http://business.beaufortchamber.org/events/details/beaufort-rotary-club-gala-welcome-in-2009-12-31-2008-2857
END:VEVENT

END:VCALENDAR
