BEGIN:VCALENDAR
VERSION:2.0
PRODID:-//ChamberMaster//Event Calendar 2.0//EN
METHOD:PUBLISH
X-PUBLISHED-TTL:P3D
REFRESH-INTERVAL:P3D
CALSCALE:GREGORIAN
BEGIN:VEVENT
DTSTART;VALUE=DATE:20121005
DTEND;VALUE=DATE:20121007
TRANSP:TRANSPARENT
X-MICROSOFT-CDO-ALLDAYEVENT:TRUE
SUMMARY:Beaufort Shrimp Festival
DESCRIPTION:The Beaufort Shrimp Festival has been celebrating local wild caught shrimp for several years. The South Carolina Shrimper's Association partners with Main Street Beaufort each year to bring awareness to thousands of visitors and residents. The festival takes place the first Saturday in October with a concert and preview of food the night before. Restaurants compete for the coveted Silver Cup and bragging rights for best shrimp dish each year. Some festival goers take part in the Shrimp Heading Competition and some children touch their first shrimp in the Shrimp Peeling Competition. Sea Island Rotary organizes the rubber shrimp race each year and live entertainment\, a children's area\, craft market\, and 5K run round out this popular festival.
X-ALT-DESC;FMTTYPE=text/html:The Beaufort Shrimp Festival has been celebrating local wild caught shrimp for several years. The South Carolina Shrimper&rsquo\;s Association partners with Main Street Beaufort each year to bring awareness to thousands of visitors and residents. The festival takes place the first Saturday in October with a concert and preview of food the night before. Restaurants compete for the coveted Silver Cup and bragging rights for best shrimp dish each year. Some festival goers take part in the Shrimp Heading Competition and some children touch their first shrimp in the Shrimp Peeling Competition. Sea Island Rotary organizes the rubber shrimp race each year and live entertainment\, a children&rsquo\;s area\, craft market\, and 5K run round out this popular festival.
LOCATION:
UID:e.1212.4553
SEQUENCE:3
DTSTAMP:20260422T153004Z
URL:http://business.beaufortchamber.org/events/details/beaufort-shrimp-festival-10-05-2012-4553
END:VEVENT

END:VCALENDAR
